BEGIN:VCALENDAR
VERSION:2.0
PRODID:-//Schule mit dem Förderschwerpunkt Lernen Kreis Germersheim (SFLKG) - ECPv6.15.20//NONSGML v1.0//EN
CALSCALE:GREGORIAN
METHOD:PUBLISH
X-WR-CALNAME:Schule mit dem Förderschwerpunkt Lernen Kreis Germersheim (SFLKG)
X-ORIGINAL-URL:https://sflkg.de
X-WR-CALDESC:Veranstaltungen für Schule mit dem Förderschwerpunkt Lernen Kreis Germersheim (SFLKG)
REFRESH-INTERVAL;VALUE=DURATION:PT1H
X-Robots-Tag:noindex
X-PUBLISHED-TTL:PT1H
BEGIN:VTIMEZONE
TZID:Europe/Paris
BEGIN:DAYLIGHT
TZOFFSETFROM:+0100
TZOFFSETTO:+0200
TZNAME:CEST
DTSTART:20150329T010000
END:DAYLIGHT
BEGIN:STANDARD
TZOFFSETFROM:+0200
TZOFFSETTO:+0100
TZNAME:CET
DTSTART:20151025T010000
END:STANDARD
BEGIN:DAYLIGHT
TZOFFSETFROM:+0100
TZOFFSETTO:+0200
TZNAME:CEST
DTSTART:20160327T010000
END:DAYLIGHT
BEGIN:STANDARD
TZOFFSETFROM:+0200
TZOFFSETTO:+0100
TZNAME:CET
DTSTART:20161030T010000
END:STANDARD
BEGIN:DAYLIGHT
TZOFFSETFROM:+0100
TZOFFSETTO:+0200
TZNAME:CEST
DTSTART:20170326T010000
END:DAYLIGHT
BEGIN:STANDARD
TZOFFSETFROM:+0200
TZOFFSETTO:+0100
TZNAME:CET
DTSTART:20171029T010000
END:STANDARD
END:VTIMEZONE
BEGIN:VEVENT
DTSTART;VALUE=DATE:20161002
DTEND;VALUE=DATE:20161009
DTSTAMP:20260422T134433
CREATED:20160912T223145Z
LAST-MODIFIED:20160912T212606Z
UID:619-1475366400-1475971199@sflkg.de
SUMMARY:Erasmus+ Fahrt nach Walsall/England
DESCRIPTION:Im Rahmen unseres internationalen Europa-Projekts „Die Kinder von Europa – Leben\, Lernen Arbeiten in 100 Jahren“ fliegen wir\nvom 2.10. bis 8.10.2016 nach Walsall/England! \n \nAn unserer Partnerschule\, der „Shire Oak Academy“ nehmen unsere Schüler Brian und Shawn an Unterricht\, Workshops und Ausflügen in die Umgebung teil. \n \nEs erwarten uns ein tolles Programm\, spannende Begegnungen mit Schülerinnen und Schülern aus den Partnerländern (England\, Frankreich\, Schweden\, Griechenland und Bulgarien) und unvergessliche Tage!
URL:https://sflkg.de/event/erasmus-fahrt-nach-walsallengland/
LOCATION:Shire Oak Academy\, Walsall\, Großbritannien (Vereinigtes Königreich)
CATEGORIES:Europa-Projekt
ATTACH;FMTTYPE=image/jpeg:https://sflkg.de/a39_pb-999/wp-content/uploads/2016/09/Erasmus.jpg
END:VEVENT
END:VCALENDAR